BEGIN:VCALENDAR
VERSION:2.0
PRODID:-//Trinity Lutheran Church - ECPv6.15.20//NONSGML v1.0//EN
CALSCALE:GREGORIAN
METHOD:PUBLISH
X-WR-CALNAME:Trinity Lutheran Church
X-ORIGINAL-URL:https://trinitylutheranfc.org
X-WR-CALDESC:Events for Trinity Lutheran Church
REFRESH-INTERVAL;VALUE=DURATION:PT1H
X-Robots-Tag:noindex
X-PUBLISHED-TTL:PT1H
BEGIN:VTIMEZONE
TZID:UTC
BEGIN:STANDARD
TZOFFSETFROM:+0000
TZOFFSETTO:+0000
TZNAME:UTC
DTSTART:20240101T000000
END:STANDARD
END:VTIMEZONE
BEGIN:VEVENT
DTSTART;TZID=UTC:20251026T090000
DTEND;TZID=UTC:20251026T100000
DTSTAMP:20260421T100745
CREATED:20250925T154029Z
LAST-MODIFIED:20250925T154029Z
UID:3166-1761469200-1761472800@trinitylutheranfc.org
SUMMARY:Adult Forum Oct 26
DESCRIPTION:Adult Forum at 9 am in Room 2 (down the East Hallway) or via Zoom HERE.  \nOctober 5: We will watch and discuss a portion of a video titled “Faith and Climate Change-Talking with the Five Major Faiths” part of the world-wide Season of Creation. \nOctober 12: Tim Snyder will lead a discussion of the new ELCA social statement “Faith and Civic Life”\, as well as 2025 voter guides\, and faith-based advocacy opportunities through our national\, regional and local church bodies. \nOctober 19: ADVENTURES IN WONDER-LAND This 301 Faith Community Adult Forum will be convened in Room 2 by Jane Reina\, Florian Hild\, and James Gearhart around Dietrich Bonhoeffer’s “thin tradition of a theology of the cross” which challenges us to wonder together about everything\, including ‘who is Christ for us today’\, who are we\, and what’s moved our own faith journey needles\, etc. \nOctober 26: BAD RELIGION Bad Religion not only prompted both Luther and Bonhoeffer to call out their church\, but also that which prompts us to consider Luther’s notion that ‘the church’ needs to be always reforming and always adapting to the truths of its contemporary context. Discussion led by James Gearhart and Kevin Mabry.
URL:https://trinitylutheranfc.org/event/adult-forum-oct-26/
END:VEVENT
BEGIN:VEVENT
DTSTART;TZID=UTC:20251026T100000
DTEND;TZID=UTC:20251026T120000
DTSTAMP:20260421T100745
CREATED:20250925T155853Z
LAST-MODIFIED:20250925T155853Z
UID:3204-1761472800-1761480000@trinitylutheranfc.org
SUMMARY:Quilters Small Group Quilting Bee
DESCRIPTION:301 Quilters  meets Fridays from 10 am-12 pm in Room 2. \nWe’ve come to another year’s end of the 301 Quilters. That means we will gather all the quilts that have been made in the past 12 months into the sanctuary. As part of the joint service on Sunday October 19 we will bless those quilts before they are delivered to Denver and then on to Minnesota and then across the globe. Please join us for this special service.  AND THEN…The following weekend Saturday\, October 25 and Sunday\, October 26 (10 am-12 pm-ish)\, we invite you to join an old-fashioned quilting bee in the fellowship hall after each service. Well\, it will actually be a new-fashioned tying bee. We’ll have a couple of quilts ready for you to help us tie them. We’ll have the needles threaded and you just make a loop and tie a knot. It’s simple and fun.
URL:https://trinitylutheranfc.org/event/quilters-small-group-quilting-bee/
END:VEVENT
END:VCALENDAR