BEGIN:VCALENDAR
VERSION:2.0
PRODID:-//Trinity Lutheran Church - ECPv6.15.20//NONSGML v1.0//EN
CALSCALE:GREGORIAN
METHOD:PUBLISH
X-ORIGINAL-URL:https://trinitylutheranfc.org
X-WR-CALDESC:Events for Trinity Lutheran Church
REFRESH-INTERVAL;VALUE=DURATION:PT1H
X-Robots-Tag:noindex
X-PUBLISHED-TTL:PT1H
BEGIN:VTIMEZONE
TZID:UTC
BEGIN:STANDARD
TZOFFSETFROM:+0000
TZOFFSETTO:+0000
TZNAME:UTC
DTSTART:20240101T000000
END:STANDARD
END:VTIMEZONE
BEGIN:VEVENT
DTSTART;TZID=UTC:20251123T083000
DTEND;TZID=UTC:20251123T123000
DTSTAMP:20260421T095905
CREATED:20251111T165714Z
LAST-MODIFIED:20251111T165714Z
UID:3271-1763886600-1763901000@trinitylutheranfc.org
SUMMARY:Turkey Round Up
DESCRIPTION:Turkey Round Up \n301 Faith Partners Turkey Round Up is to collect turkeys for the Food Bank for Larimer County. Bring your rock-hard frozen turkeys to church on Sunday\, November 23 from 8:30 am-12:30 pm. Please remember\, only rock-hard frozen turkeys can be donated\, if you are able to squeeze your turkey even a little bit- it is no longer frozen! So\, it won’t be safe to donate. Let’s STUFF THE FOOD BANK! Give thanks by GIVING!
URL:https://trinitylutheranfc.org/event/turkey-round-up/
END:VEVENT
BEGIN:VEVENT
DTSTART;TZID=UTC:20251123T090000
DTEND;TZID=UTC:20251123T100000
DTSTAMP:20260421T095905
CREATED:20251111T165442Z
LAST-MODIFIED:20251111T165442Z
UID:3267-1763888400-1763892000@trinitylutheranfc.org
SUMMARY:Adult Forum - November 23
DESCRIPTION:Adult Forum at 9 am in Room 2 (down the East Hallway) or via Zoom HERE.  \nNovember 2: FIFTY SHADES OF CHRISTIANITIES Might Dietrich Bonhoeffer’s notion of a post-holocaust ‘Religionless Christianity’ help us to get our heads around the blatant divisiveness within Christianity today? Discussion led by Kevin Mabry & James Gearhart \nNovember 9: Elizabeth Palmer\, a senior editor with Christian Century magazine\, will join us on Zoom to discuss what she learned from the activists of George Floyd Memorial Square about living out faith in community during times of social unrest. \nNovember 16: Renee Mize and Eric Jurgenson will discuss the 2026 Ministry Funds Plan (MFP) that the congregation will have the opportunity to vote on at the congregational meeting that day. \nNovember 23: Kelly Evans\, Executive Director\, will update us on the work of Neighbor to Neighbor\, one of Trinity’s benevolence partners. \nNovember 30: No Adult Forum\, Happy Thanksgiving
URL:https://trinitylutheranfc.org/event/adult-forum-november-23/
END:VEVENT
END:VCALENDAR