BEGIN:VCALENDAR
VERSION:2.0
PRODID:-//Trinity Lutheran Church - ECPv6.15.20//NONSGML v1.0//EN
CALSCALE:GREGORIAN
METHOD:PUBLISH
X-ORIGINAL-URL:https://trinitylutheranfc.org
X-WR-CALDESC:Events for Trinity Lutheran Church
REFRESH-INTERVAL;VALUE=DURATION:PT1H
X-Robots-Tag:noindex
X-PUBLISHED-TTL:PT1H
BEGIN:VTIMEZONE
TZID:UTC
BEGIN:STANDARD
TZOFFSETFROM:+0000
TZOFFSETTO:+0000
TZNAME:UTC
DTSTART:20250101T000000
END:STANDARD
END:VTIMEZONE
BEGIN:VEVENT
DTSTART;VALUE=DATE:20260218
DTEND;VALUE=DATE:20260219
DTSTAMP:20260421T100448
CREATED:20260203T171610Z
LAST-MODIFIED:20260203T171610Z
UID:3425-1771372800-1771459199@trinitylutheranfc.org
SUMMARY:Ash Wednesday\, February 18
DESCRIPTION:Ash Wednesday\, February 18 \nFor Ash Wednesday\, there will be three opportunities to worship with the 301 Faith Partners. Everyone is welcome to any of these services. \n7 am St. Paul’s  |  12 pm Trinity  |  7 pm Mary of Magdala
URL:https://trinitylutheranfc.org/event/ash-wednesday-february-18/
END:VEVENT
END:VCALENDAR