BEGIN:VCALENDAR
VERSION:2.0
PRODID:-//Trinity Lutheran Church - ECPv6.15.20//NONSGML v1.0//EN
CALSCALE:GREGORIAN
METHOD:PUBLISH
X-ORIGINAL-URL:https://trinitylutheranfc.org
X-WR-CALDESC:Events for Trinity Lutheran Church
REFRESH-INTERVAL;VALUE=DURATION:PT1H
X-Robots-Tag:noindex
X-PUBLISHED-TTL:PT1H
BEGIN:VTIMEZONE
TZID:UTC
BEGIN:STANDARD
TZOFFSETFROM:+0000
TZOFFSETTO:+0000
TZNAME:UTC
DTSTART:20250101T000000
END:STANDARD
END:VTIMEZONE
BEGIN:VEVENT
DTSTART;TZID=UTC:20260608T090000
DTEND;TZID=UTC:20260611T120000
DTSTAMP:20260421T154821
CREATED:20260416T173221Z
LAST-MODIFIED:20260416T173313Z
UID:3569-1780909200-1781179200@trinitylutheranfc.org
SUMMARY:VBS
DESCRIPTION:VBS – Save the Date! Step right up \nJune 8–11 from 9am–noon \nCome one! Come all! Step right up and see the marvelous wonders waiting for you at our carnival! Carnivals are more than a place for entertainment—they’re an invitation to see something extraordinary. In this four-day series\, kids Pre-K–5th grade will explore how Jesus\, like a great carnival barker\, calls out to us to show us something wonderful. \nDay 1: Use the gifts God gave you! \nDay 2: Show God’s love to someone new! \nDay 3: Thank God for forgiveness! \nDay 4: Share God’s story with everyone! \nRegistration HERE! \n 
URL:https://trinitylutheranfc.org/event/vbs-2/
END:VEVENT
END:VCALENDAR