BEGIN:VCALENDAR
VERSION:2.0
PRODID:-//Trinity Lutheran Church - ECPv6.15.20//NONSGML v1.0//EN
CALSCALE:GREGORIAN
METHOD:PUBLISH
X-WR-CALNAME:Trinity Lutheran Church
X-ORIGINAL-URL:https://trinitylutheranfc.org
X-WR-CALDESC:Events for Trinity Lutheran Church
REFRESH-INTERVAL;VALUE=DURATION:PT1H
X-Robots-Tag:noindex
X-PUBLISHED-TTL:PT1H
BEGIN:VTIMEZONE
TZID:UTC
BEGIN:STANDARD
TZOFFSETFROM:+0000
TZOFFSETTO:+0000
TZNAME:UTC
DTSTART:20230101T000000
END:STANDARD
END:VTIMEZONE
BEGIN:VEVENT
DTSTART;VALUE=DATE:20241126
DTEND;VALUE=DATE:20241217
DTSTAMP:20260420T204705
CREATED:20241126T191527Z
LAST-MODIFIED:20241126T191527Z
UID:2527-1732579200-1734393599@trinitylutheranfc.org
SUMMARY:Poinsettias
DESCRIPTION:You are invited to remember family and friends this Christmas with a suggested donation of $12 for poinsettias that we will display right before Christmas. Your name and intentions (“In memory of …” “In celebration of …”\, etc.) will be listed in the Christmas bulletins. If you would like a poinsettia to take home or to a shut-in\, they will be available on a first-come\, first-served basis after the Christmas services of all three congregations are over. If you would like to remember or celebrate someone with poinsettias\, please email Amanda by Monday\, December 16.
URL:https://trinitylutheranfc.org/event/poinsettias/
END:VEVENT
BEGIN:VEVENT
DTSTART;TZID=UTC:20241124T083000
DTEND;TZID=UTC:20241124T123000
DTSTAMP:20260420T204705
CREATED:20241112T215924Z
LAST-MODIFIED:20241112T215924Z
UID:2470-1732437000-1732451400@trinitylutheranfc.org
SUMMARY:Turkey Round Up for the Food Bank
DESCRIPTION:301 Faith Partners Turkey Round Up is to collect turkeys for the Food Bank for Larimer County. Bring your rock-hard frozen turkeys to church on Sunday\, November 24 from 8:30 am-12:30 pm. Please remember\, only rock-hard frozen turkeys can be donated\, if you are able to squeeze your turkey even a little bit- it is no longer frozen! So\, it won’t be safe to donate. Let’s STUFF THE FOOD BANK! Give thanks by GIVING!
URL:https://trinitylutheranfc.org/event/turkey-round-up-for-the-food-bank/
END:VEVENT
BEGIN:VEVENT
DTSTART;TZID=UTC:20241121T100000
DTEND;TZID=UTC:20241121T140000
DTSTAMP:20260420T204705
CREATED:20241112T203109Z
LAST-MODIFIED:20241112T220844Z
UID:2464-1732183200-1732197600@trinitylutheranfc.org
SUMMARY:Lefse Making
DESCRIPTION:All are welcome to come make Lefse\, with real potatoes\, cream\, butter\, and artisan flour on Thursdays\, November 21 and December 19\, from 10 am-2 pm in the kitchen and fellowship hall. Amy Jo Martinson will make the dough the day before. You will be rolling out the dough\, grilling it\, putting into cloths to rest\, and either eating or putting into bags! If you have any supplies\, please bring them to help with making more faster. We do have 3 griddles and equipment for three stations. No charge. Any questions\, please contact Amy Jo Martinson at her home\, which is where she sells Kransekake and Lefse out of her home. Thank you\, Tusen Takk!
URL:https://trinitylutheranfc.org/event/lefse-making/
LOCATION:Kitchen & Fellowship Hall
END:VEVENT
BEGIN:VEVENT
DTSTART;TZID=UTC:20241117T113000
DTEND;TZID=UTC:20241117T123000
DTSTAMP:20260420T204705
CREATED:20241112T180528Z
LAST-MODIFIED:20241112T181448Z
UID:2457-1731843000-1731846600@trinitylutheranfc.org
SUMMARY:Congregational Meeting
DESCRIPTION:Congregational Meeting will be Sunday\, November 17.\nOne meeting\, following worship (11:30 am-ish) – with zoom availability. There will be lights treats (Muffins\, Cookies\, & Bars) provided. \nTENTATIVE Agenda:\n1) Ministry Funds Plan (vote) includes two Full Time Clergy\n2) Present name (Dcn. Katie) for second clergy position (vote)\n3) Election of leadership positions.\n4) Thank you from Social and Eco-Justice \nSlate of officers & Ministry Funds Plan also available at the office. \n2025 PROPOSED MINISTRY FUNDS PLAN\nClick HERE to be directed to the 2025 Proposed MFP.\nSLATE of OFFICERS\nVice President: Paul Johnson\nCouncil Secretary: Marilyn Morrisey (1 Year)\nProperty: Soren Nicholsen\nTreasurer: Renee Mize\nEvangelism/Hospitality: Linda Cavazos\nFinancial Review: Susan Lamb\nNominating Committee: Steve Dugger\, Debbie Schwartz\, Erik Elliott\, Don Heyse\, Nadine Hunt\nPreschool Board: Trina Garlo\, Katie Barron\, Patty Heyse\nSynod Assembly: Margaret Wick\, Dan Merz\nTrust: Bill Foos\, Lori Schmidt
URL:https://trinitylutheranfc.org/event/congregational-meeting/
END:VEVENT
BEGIN:VEVENT
DTSTART;TZID=UTC:20241020T090000
DTEND;TZID=UTC:20241020T123000
DTSTAMP:20260420T204705
CREATED:20241008T153018Z
LAST-MODIFIED:20241008T162216Z
UID:2398-1729414800-1729427400@trinitylutheranfc.org
SUMMARY:301 Faith Partners Shared Sunday
DESCRIPTION:Join the 301 Faith Partners for Shared Sunday on October 20. Activities will be focused on Immigrants and Refugees in our communities. \n\n9 am Adult Forum (Room 2 & Zoom) – Speaker from ISAAC (Details TBA) We will be using Trinity’s Zoom link; To join click HERE!! Meeting ID: 894 3735 9149 | Passcode: Lutheran\n10:30 am Worship (Sanctuary & Zoom) **This is St. Paul’s Zoom Link!** To join click HERE!!\n11:45 am Potluck Luncheon in the Fellowship Hall featuring tamales from La Fondita Latina (See potluck signup link below)\n\nVisit the ISAAC table to learn more about their work in Larimer County. After the potluck\, you are invited to help assemble Youth Hygiene Kits for recently arrived Poudre School District students.\nContact Judy Matthews to sign up for kit assembly. \nPork Tamales and beans will be provided by La Fondita Latina (a worker-owned cooperative that is a model for creating jobs and opportunities for immigrants in our community) We will also have coffee from Arboretum: “Our model focuses on empowering refugees and immigrants and bridging communities through a holistic paid apprenticeship program” Suggested donation to help cover food costs is $5 per adult. \nSign up to bring side dishes\, salsas\, etc. click HERE!!
URL:https://trinitylutheranfc.org/event/301-faith-partners-shared-sunday/
END:VEVENT
END:VCALENDAR